BEGIN:VCALENDAR
VERSION:2.0
PRODID:-//Unified Dance Studio - ECPv6.15.20//NONSGML v1.0//EN
CALSCALE:GREGORIAN
METHOD:PUBLISH
X-ORIGINAL-URL:https://unified.dance
X-WR-CALDESC:Events for Unified Dance Studio
REFRESH-INTERVAL;VALUE=DURATION:PT1H
X-Robots-Tag:noindex
X-PUBLISHED-TTL:PT1H
BEGIN:VTIMEZONE
TZID:UTC
BEGIN:STANDARD
TZOFFSETFROM:+0000
TZOFFSETTO:+0000
TZNAME:UTC
DTSTART:20210101T000000
END:STANDARD
END:VTIMEZONE
BEGIN:VEVENT
DTSTART;TZID=UTC:20221218T170000
DTEND;TZID=UTC:20221218T190000
DTSTAMP:20260423T083420
CREATED:20221202T022350Z
LAST-MODIFIED:20221202T022559Z
UID:10000006-1671382800-1671390000@unified.dance
SUMMARY:Winter Performance
DESCRIPTION:A Winter’s Dream: Nutcracker Suite
URL:https://unified.dance/datestoremember/winter-performance/
LOCATION:Michael’s on Silverlake\, 11525 19th Avenue Southeast\, Everett\, WA 98208\, United States
CATEGORIES:Performance
END:VEVENT
END:VCALENDAR