BEGIN:VCALENDAR
VERSION:2.0
PRODID:-//Unified Dance Studio - ECPv6.15.20//NONSGML v1.0//EN
CALSCALE:GREGORIAN
METHOD:PUBLISH
X-WR-CALNAME:Unified Dance Studio
X-ORIGINAL-URL:https://unified.dance
X-WR-CALDESC:Events for Unified Dance Studio
REFRESH-INTERVAL;VALUE=DURATION:PT1H
X-Robots-Tag:noindex
X-PUBLISHED-TTL:PT1H
BEGIN:VTIMEZONE
TZID:UTC
BEGIN:STANDARD
TZOFFSETFROM:+0000
TZOFFSETTO:+0000
TZNAME:UTC
DTSTART:20250101T000000
END:STANDARD
END:VTIMEZONE
BEGIN:VEVENT
DTSTART;VALUE=DATE:20260706
DTEND;VALUE=DATE:20260711
DTSTAMP:20260423T221515
CREATED:20260103T194938Z
LAST-MODIFIED:20260103T194938Z
UID:10000052-1783296000-1783727999@unified.dance
SUMMARY:Summer Dance Intensive - Ages 10+
DESCRIPTION:This summer intensive pushes students to improve their artistry and technique.
URL:https://unified.dance/datestoremember/summer-dance-intensive-ages-10/
CATEGORIES:Kids Class
END:VEVENT
END:VCALENDAR