BEGIN:VCALENDAR
VERSION:2.0
PRODID:-//Unified Dance Studio - ECPv6.15.20//NONSGML v1.0//EN
CALSCALE:GREGORIAN
METHOD:PUBLISH
X-WR-CALNAME:Unified Dance Studio
X-ORIGINAL-URL:https://unified.dance
X-WR-CALDESC:Events for Unified Dance Studio
REFRESH-INTERVAL;VALUE=DURATION:PT1H
X-Robots-Tag:noindex
X-PUBLISHED-TTL:PT1H
BEGIN:VTIMEZONE
TZID:UTC
BEGIN:STANDARD
TZOFFSETFROM:+0000
TZOFFSETTO:+0000
TZNAME:UTC
DTSTART:20250101T000000
END:STANDARD
END:VTIMEZONE
BEGIN:VEVENT
DTSTART;VALUE=DATE:20260614
DTEND;VALUE=DATE:20260615
DTSTAMP:20260421T133514
CREATED:20260103T195057Z
LAST-MODIFIED:20260304T190655Z
UID:10000053-1781395200-1781481599@unified.dance
SUMMARY:Hit The Lights (Spring Recital) 11:30 AM and 3:30 PM
DESCRIPTION:Unified Dance Spring Recital
URL:https://unified.dance/datestoremember/hit-the-lights-spring-recital-12-pm-and-4-pm/
LOCATION:Snohomish PUD Ampitheater
CATEGORIES:Special Event
END:VEVENT
END:VCALENDAR