BEGIN:VCALENDAR
VERSION:2.0
PRODID:-//Unified Dance Studio - ECPv6.15.20//NONSGML v1.0//EN
CALSCALE:GREGORIAN
METHOD:PUBLISH
X-ORIGINAL-URL:https://unified.dance
X-WR-CALDESC:Events for Unified Dance Studio
REFRESH-INTERVAL;VALUE=DURATION:PT1H
X-Robots-Tag:noindex
X-PUBLISHED-TTL:PT1H
BEGIN:VTIMEZONE
TZID:UTC
BEGIN:STANDARD
TZOFFSETFROM:+0000
TZOFFSETTO:+0000
TZNAME:UTC
DTSTART:20250101T000000
END:STANDARD
END:VTIMEZONE
BEGIN:VEVENT
DTSTART;VALUE=DATE:20260704
DTEND;VALUE=DATE:20260705
DTSTAMP:20260423T182312
CREATED:20260304T190746Z
LAST-MODIFIED:20260304T190746Z
UID:10000055-1783123200-1783209599@unified.dance
SUMMARY:July 4th Parade
DESCRIPTION:Our annual participation in Bothell’s 4th of July Parade
URL:https://unified.dance/datestoremember/july-4th-parade/
END:VEVENT
END:VCALENDAR